BEGIN:VCALENDAR
VERSION:2.0
PRODID:-//Central Virginia Regional Rescue - ECPv6.15.20//NONSGML v1.0//EN
CALSCALE:GREGORIAN
METHOD:PUBLISH
X-ORIGINAL-URL:https://www.cvrrescue.org
X-WR-CALDESC:Events for Central Virginia Regional Rescue
REFRESH-INTERVAL;VALUE=DURATION:PT1H
X-Robots-Tag:noindex
X-PUBLISHED-TTL:PT1H
BEGIN:VTIMEZONE
TZID:America/New_York
BEGIN:DAYLIGHT
TZOFFSETFROM:-0500
TZOFFSETTO:-0400
TZNAME:EDT
DTSTART:20150308T070000
END:DAYLIGHT
BEGIN:STANDARD
TZOFFSETFROM:-0400
TZOFFSETTO:-0500
TZNAME:EST
DTSTART:20151101T060000
END:STANDARD
BEGIN:DAYLIGHT
TZOFFSETFROM:-0500
TZOFFSETTO:-0400
TZNAME:EDT
DTSTART:20160313T070000
END:DAYLIGHT
BEGIN:STANDARD
TZOFFSETFROM:-0400
TZOFFSETTO:-0500
TZNAME:EST
DTSTART:20161106T060000
END:STANDARD
BEGIN:DAYLIGHT
TZOFFSETFROM:-0500
TZOFFSETTO:-0400
TZNAME:EDT
DTSTART:20170312T070000
END:DAYLIGHT
BEGIN:STANDARD
TZOFFSETFROM:-0400
TZOFFSETTO:-0500
TZNAME:EST
DTSTART:20171105T060000
END:STANDARD
END:VTIMEZONE
BEGIN:VTIMEZONE
TZID:UTC
BEGIN:STANDARD
TZOFFSETFROM:+0000
TZOFFSETTO:+0000
TZNAME:UTC
DTSTART:20150101T000000
END:STANDARD
END:VTIMEZONE
BEGIN:VEVENT
DTSTART;TZID=America/New_York:20160605T140000
DTEND;TZID=America/New_York:20160605T160000
DTSTAMP:20260425T122031
CREATED:20160425T184833Z
LAST-MODIFIED:20160425T184833Z
UID:386-1465135200-1465142400@www.cvrrescue.org
SUMMARY:CVRR Junior Rescuers - Positive Reinforcement Education!
DESCRIPTION:We all like treats: Home made Kongs (Pick up and/or deliver to current fosters)
URL:https://www.cvrrescue.org/event/cvrr-junior-rescuers-positive-reinforcement-education/
LOCATION:Timbrook Library\, 18891 Leesville Road\, Timberlake\, VA\, United States
END:VEVENT
BEGIN:VEVENT
DTSTART;TZID=America/New_York:20160515T183000
DTEND;TZID=America/New_York:20160515T193000
DTSTAMP:20260425T122031
CREATED:20160425T184215Z
LAST-MODIFIED:20160425T184215Z
UID:383-1463337000-1463340600@www.cvrrescue.org
SUMMARY:Monthly Volunteer Meeting
DESCRIPTION:Monthly meeting for the volunteers of Central Virginia Regional Rescue. Occurring the 15th of every month at 6:30 p.m. EST; location TBD.
URL:https://www.cvrrescue.org/event/monthly-volunteer-meeting-3/
LOCATION:TBD
END:VEVENT
BEGIN:VEVENT
DTSTART;TZID=UTC:20160507T080000
DTEND;TZID=UTC:20160507T130000
DTSTAMP:20260425T122031
CREATED:20160425T184658Z
LAST-MODIFIED:20160425T184658Z
UID:384-1462608000-1462626000@www.cvrrescue.org
SUMMARY:CVRR Yardsale with Lemonade & Baked Goodness Stand
DESCRIPTION:Come out and join us for our first CVRR yardsale! Come on out to 21771 Timberlake Road next to Arby’s from 8 a.m. to 1 p.m! Our Junior rescuers will be there with homemade lemonade and bakes goodies to help raise money for our animals too!
URL:https://www.cvrrescue.org/event/cvrr-yardsale-with-lemonade-baked-goodness-stand/
LOCATION:Yardsale Location\, 21771 Timberlake Road\, Lynchburg\, 24502\, United States
END:VEVENT
BEGIN:VEVENT
DTSTART;TZID=America/New_York:20160501T160000
DTEND;TZID=America/New_York:20160501T170000
DTSTAMP:20260425T122031
CREATED:20160425T184045Z
LAST-MODIFIED:20160425T184045Z
UID:382-1462118400-1462122000@www.cvrrescue.org
SUMMARY:Monthly Board Meeting
DESCRIPTION:Monthly board meetings occur on the First Sunday of Every Month at 4 p.m. EST. The first half hour of our board meetings are open to the public.
URL:https://www.cvrrescue.org/event/monthly-board-meeting-2/
LOCATION:Timbrook Library\, 18891 Leesville Road\, Timberlake\, VA\, United States
END:VEVENT
BEGIN:VEVENT
DTSTART;TZID=America/New_York:20160501T140000
DTEND;TZID=America/New_York:20160501T160000
DTSTAMP:20260425T122031
CREATED:20160425T183756Z
LAST-MODIFIED:20160425T183756Z
UID:380-1462111200-1462118400@www.cvrrescue.org
SUMMARY:CVRR Junior Rescuers - Yard Sale Prep!
DESCRIPTION:Creating Super-Duper-Awesome-You-Cant-Miss-This Signs!
URL:https://www.cvrrescue.org/event/cvrr-junior-rescuers-yard-sale-prep/
LOCATION:Timbrook Library\, 18891 Leesville Road\, Timberlake\, VA\, United States
END:VEVENT
BEGIN:VEVENT
DTSTART;TZID=America/New_York:20160415T183000
DTEND;TZID=America/New_York:20160415T193000
DTSTAMP:20260425T122031
CREATED:20160225T215600Z
LAST-MODIFIED:20160225T215600Z
UID:233-1460745000-1460748600@www.cvrrescue.org
SUMMARY:Monthly Volunteer Meeting
DESCRIPTION:Monthly meeting for the volunteers of Central Virginia Regional Rescue. Occurring the 15th of every month at 6:30 p.m. EST; location TBD.
URL:https://www.cvrrescue.org/event/monthly-volunteer-meeting-2/
LOCATION:TBD
END:VEVENT
BEGIN:VEVENT
DTSTART;TZID=America/New_York:20160409T090000
DTEND;TZID=America/New_York:20160409T120000
DTSTAMP:20260425T122031
CREATED:20160225T220308Z
LAST-MODIFIED:20160225T220308Z
UID:235-1460192400-1460203200@www.cvrrescue.org
SUMMARY:BE BOLD 4 Miler {at Bold Rock Cidery}
DESCRIPTION:Join us at the BE BOLD 4 Miler at Bold Rock Cidery on April 9\, 2016.
URL:https://www.cvrrescue.org/event/be-bold-4-miler-at-bold-rock-cidery/
LOCATION:Bold Rock Cidery\, 1020 Rockfish Valley Highway (Route 151) \, Nellysford\, VA\, 22958\, United States
END:VEVENT
BEGIN:VEVENT
DTSTART;TZID=America/New_York:20160403T160000
DTEND;TZID=America/New_York:20160403T170000
DTSTAMP:20260425T122031
CREATED:20160225T215846Z
LAST-MODIFIED:20160225T215846Z
UID:234-1459699200-1459702800@www.cvrrescue.org
SUMMARY:Monthly Board Meeting
DESCRIPTION:Monthly board meetings occur on the First Sunday of Every Month at 4 p.m. EST. The first half hour of our board meetings are open to the public.
URL:https://www.cvrrescue.org/event/monthly-board-meeting/
LOCATION:TBD
END:VEVENT
BEGIN:VEVENT
DTSTART;TZID=America/New_York:20160315T183000
DTEND;TZID=America/New_York:20160315T193000
DTSTAMP:20260425T122031
CREATED:20160225T214613Z
LAST-MODIFIED:20160225T215550Z
UID:229-1458066600-1458070200@www.cvrrescue.org
SUMMARY:Monthly Volunteer Meeting
DESCRIPTION:Monthly meeting for the volunteers of Central Virginia Regional Rescue. Occurring the 15th of every month at 6:30 p.m. EST; location TBD.
URL:https://www.cvrrescue.org/event/monthly-volunteer-meeting/
LOCATION:TBD
END:VEVENT
BEGIN:VEVENT
DTSTART;TZID=America/New_York:20160306T160000
DTEND;TZID=America/New_York:20160306T170000
DTSTAMP:20260425T122031
CREATED:20160225T213344Z
LAST-MODIFIED:20160225T214303Z
UID:226-1457280000-1457283600@www.cvrrescue.org
SUMMARY:Monthly Board Meeting
DESCRIPTION:Monthly board meetings occur on the First Sunday of Every Month at 4 p.m. EST. The first half hour of our board meetings are open to the public.
URL:https://www.cvrrescue.org/event/monthly-board-meetings/
LOCATION:TBD
END:VEVENT
END:VCALENDAR