BEGIN:VCALENDAR
VERSION:2.0
PRODID:-//Central Virginia Regional Rescue - ECPv6.15.20//NONSGML v1.0//EN
CALSCALE:GREGORIAN
METHOD:PUBLISH
X-ORIGINAL-URL:https://www.cvrrescue.org
X-WR-CALDESC:Events for Central Virginia Regional Rescue
REFRESH-INTERVAL;VALUE=DURATION:PT1H
X-Robots-Tag:noindex
X-PUBLISHED-TTL:PT1H
BEGIN:VTIMEZONE
TZID:UTC
BEGIN:STANDARD
TZOFFSETFROM:+0000
TZOFFSETTO:+0000
TZNAME:UTC
DTSTART:20150101T000000
END:STANDARD
END:VTIMEZONE
BEGIN:VTIMEZONE
TZID:America/New_York
BEGIN:DAYLIGHT
TZOFFSETFROM:-0500
TZOFFSETTO:-0400
TZNAME:EDT
DTSTART:20150308T070000
END:DAYLIGHT
BEGIN:STANDARD
TZOFFSETFROM:-0400
TZOFFSETTO:-0500
TZNAME:EST
DTSTART:20151101T060000
END:STANDARD
BEGIN:DAYLIGHT
TZOFFSETFROM:-0500
TZOFFSETTO:-0400
TZNAME:EDT
DTSTART:20160313T070000
END:DAYLIGHT
BEGIN:STANDARD
TZOFFSETFROM:-0400
TZOFFSETTO:-0500
TZNAME:EST
DTSTART:20161106T060000
END:STANDARD
BEGIN:DAYLIGHT
TZOFFSETFROM:-0500
TZOFFSETTO:-0400
TZNAME:EDT
DTSTART:20170312T070000
END:DAYLIGHT
BEGIN:STANDARD
TZOFFSETFROM:-0400
TZOFFSETTO:-0500
TZNAME:EST
DTSTART:20171105T060000
END:STANDARD
END:VTIMEZONE
BEGIN:VEVENT
DTSTART;TZID=UTC:20260328T170000
DTEND;TZID=UTC:20260328T220000
DTSTAMP:20260425T103410
CREATED:20250321T201317Z
LAST-MODIFIED:20260201T164116Z
UID:3838-1774717200-1774735200@www.cvrrescue.org
SUMMARY:2026 Ties & Tails Gala
DESCRIPTION:Join us! Click here to buy tickets and see the event unfold!
URL:https://www.cvrrescue.org/event/ties-tails-gala-2026/
LOCATION:Tresca on 8th\, 724 Commerce St\, Lynchburg\, VA\, 24504\, United States
ATTACH;FMTTYPE=image/png:https://www.cvrrescue.org/wp-content/uploads/2025/03/Save-The-Date-Card-4.png
END:VEVENT
BEGIN:VEVENT
DTSTART;TZID=UTC:20251101T120000
DTEND;TZID=UTC:20251101T170000
DTSTAMP:20260425T103410
CREATED:20250329T075036Z
LAST-MODIFIED:20250926T155351Z
UID:3881-1761998400-1762016400@www.cvrrescue.org
SUMMARY:RESCUEfest 2025
DESCRIPTION:
URL:https://www.cvrrescue.org/event/rescuefest-2025/
LOCATION:Apocalypse Ale Works\, 1257 Burnbridge Road\, Forest\, VA\, 24551\, United States
ATTACH;FMTTYPE=image/jpeg:https://www.cvrrescue.org/wp-content/uploads/2025/09/rescuefest-flyer.jpg
END:VEVENT
BEGIN:VEVENT
DTSTART;TZID=UTC:20250608T090000
DTEND;TZID=UTC:20250608T120000
DTSTAMP:20260425T103410
CREATED:20250424T005421Z
LAST-MODIFIED:20250424T005421Z
UID:3891-1749373200-1749384000@www.cvrrescue.org
SUMMARY:Rabies Vaccine & Microchip Clinic
DESCRIPTION:Join us on Sunday\, June 8th for a Rabies Vaccination & Microchip Clinic at Lake Forest Animal Hospital! \n*****  Register: bit.ly/cvrr-clinic  ***** \n\nCats & dogs welcome from all localities.\n$10 rabies vaccines.\n$10 microchips.\nFREE microchip registration! \nDogs must be on a leash or contained in a crate\, etc.\nCats must be in an enclosed carrier.\n\n*****  Register: bit.ly/cvrr-clinic  ***** \nPlease note: *cats/dogs must be at least 4 months old to receive vaccine\, and proof of prior rabies vaccine is required to receive a 3-year vaccine.
URL:https://www.cvrrescue.org/event/cvrr-clinic/
LOCATION:Lake Forest Animal Hospital\, 18510 Forest Road\, Forest\, VA\, 24551\, United States
ATTACH;FMTTYPE=image/png:https://www.cvrrescue.org/wp-content/uploads/2025/04/Flyer-Microchip-Clinic-8.5-×-11-in-2.png
END:VEVENT
BEGIN:VEVENT
DTSTART;TZID=UTC:20250426T100000
DTEND;TZID=UTC:20250426T150000
DTSTAMP:20260425T103410
CREATED:20250325T220657Z
LAST-MODIFIED:20250325T220657Z
UID:3875-1745661600-1745679600@www.cvrrescue.org
SUMMARY:Brookville Spring Fair
DESCRIPTION:
URL:https://www.cvrrescue.org/event/brookville-spring-fair/
LOCATION:Tomahawk Elementary School\, 155 Bee Drive\, Lynchburg\, VA\, 24502\, United States
END:VEVENT
BEGIN:VEVENT
DTSTART;TZID=UTC:20250425T173000
DTEND;TZID=UTC:20250425T203000
DTSTAMP:20260425T103410
CREATED:20250321T200741Z
LAST-MODIFIED:20250424T005549Z
UID:3835-1745602200-1745613000@www.cvrrescue.org
SUMMARY:Bark in the Park: Lynchburg Hillcats
DESCRIPTION:Join us cheering on the Lynchburg Hillcats on Friday April 25\, 2025 for Bark in the Park: K9 & Wine!\n\n\n\nTickets are on presale for a special rate of $8 at the link below. For every ticket sold through our special link\, the Lynchburg Hillcats will donate $3 back to CVRR. Grab your family & friends and head to the stadium for a night of baseball and meet some CVRR animals available for adoption!\n\n\n\n\n\nBuy your discounted tickets to support CVRR here: bit.ly/cvrr-hillcats
URL:https://www.cvrrescue.org/event/lynchburg-hillcats/
LOCATION:Lynchburg Hillcats\, 3180 Fort Ave\, Lynchburg\, United States
ATTACH;FMTTYPE=image/png:https://www.cvrrescue.org/wp-content/uploads/2025/03/Upcoming-Events-Flyer-2.png
END:VEVENT
BEGIN:VEVENT
DTSTART;TZID=UTC:20250419T120000
DTEND;TZID=UTC:20250419T190000
DTSTAMP:20260425T103410
CREATED:20250321T195917Z
LAST-MODIFIED:20250321T195917Z
UID:3831-1745064000-1745089200@www.cvrrescue.org
SUMMARY:Lynchburg Wine & Music Festival
DESCRIPTION:
URL:https://www.cvrrescue.org/event/lynchburg-wine-music-festival/
LOCATION:Lynchburg City Stadium\, 3176 Fort Avenue\, Lynchburg\, VA\, United States
END:VEVENT
BEGIN:VEVENT
DTSTART;TZID=UTC:20250330T110000
DTEND;TZID=UTC:20250330T160000
DTSTAMP:20260425T103410
CREATED:20250321T195242Z
LAST-MODIFIED:20250321T195242Z
UID:3826-1743332400-1743350400@www.cvrrescue.org
SUMMARY:Maker Faire Lynchburg
DESCRIPTION:
URL:https://www.cvrrescue.org/event/maker-faire-lynchburg/
LOCATION:Randolph College\, 2500 Rivermont Avenue\, Lynchburg\, VA\, 24503\, United States
END:VEVENT
BEGIN:VEVENT
DTSTART;TZID=UTC:20241102T120000
DTEND;TZID=UTC:20241102T170000
DTSTAMP:20260425T103410
CREATED:20240922T225254Z
LAST-MODIFIED:20240922T225254Z
UID:3646-1730548800-1730566800@www.cvrrescue.org
SUMMARY:RescueFest!
DESCRIPTION:
URL:https://www.cvrrescue.org/event/rescuefest-2024/
LOCATION:Apocalypse Ale Works\, 1257 Burnbridge Road\, Forest\, VA\, 24551\, United States
END:VEVENT
BEGIN:VEVENT
DTSTART;TZID=UTC:20241019T090000
DTEND;TZID=UTC:20241019T170000
DTSTAMP:20260425T103410
CREATED:20240922T225023Z
LAST-MODIFIED:20240922T225023Z
UID:3643-1729328400-1729357200@www.cvrrescue.org
SUMMARY:Amherst Apple Harvest Festival
DESCRIPTION:
URL:https://www.cvrrescue.org/event/amherst-apple-harvest-festival/
LOCATION:Amherst County High School\, 139 Lancer Lane\, Amherst\, VA\, 24521\, United States
END:VEVENT
BEGIN:VEVENT
DTSTART;TZID=UTC:20170819T120000
DTEND;TZID=UTC:20170819T150000
DTSTAMP:20260425T103410
CREATED:20170723T182356Z
LAST-MODIFIED:20170723T182356Z
UID:527-1503144000-1503154800@www.cvrrescue.org
SUMMARY:Community Appreciation Day and Open House
DESCRIPTION:
URL:https://www.cvrrescue.org/event/community-appreciation-day-and-open-house/
LOCATION:Rustburg Veterinary Clinic\, 1334 Calohan Rd\, Rustburg\, VA\, 24588\, United States
ATTACH;FMTTYPE=image/jpeg:https://www.cvrrescue.org/wp-content/uploads/2017/07/1.jpg
END:VEVENT
BEGIN:VEVENT
DTSTART;TZID=America/New_York:20160803T140000
DTEND;TZID=America/New_York:20160803T160000
DTSTAMP:20260425T103410
CREATED:20160425T185113Z
LAST-MODIFIED:20160425T185113Z
UID:388-1470232800-1470240000@www.cvrrescue.org
SUMMARY:CVRR Junior Rescuers - Humane Treatment Education!
DESCRIPTION:Scooby-Doo Investigation
URL:https://www.cvrrescue.org/event/cvrr-junior-rescuers-humane-treatment-education/
LOCATION:Timbrook Library\, 18891 Leesville Road\, Timberlake\, VA\, United States
END:VEVENT
BEGIN:VEVENT
DTSTART;TZID=America/New_York:20160710T140000
DTEND;TZID=America/New_York:20160710T160000
DTSTAMP:20260425T103410
CREATED:20160425T184945Z
LAST-MODIFIED:20160425T184945Z
UID:387-1468159200-1468166400@www.cvrrescue.org
SUMMARY:CVRR Junior Rescuers - Appearance Education!
DESCRIPTION:Don’t judge a dog by its fur! What does a scary dog look like & how can we make a difference? \n—Tie Dye Tshirts
URL:https://www.cvrrescue.org/event/cvrr-junior-rescuers-appearance-education/
LOCATION:Timbrook Library\, 18891 Leesville Road\, Timberlake\, VA\, United States
END:VEVENT
BEGIN:VEVENT
DTSTART;TZID=America/New_York:20160605T140000
DTEND;TZID=America/New_York:20160605T160000
DTSTAMP:20260425T103410
CREATED:20160425T184833Z
LAST-MODIFIED:20160425T184833Z
UID:386-1465135200-1465142400@www.cvrrescue.org
SUMMARY:CVRR Junior Rescuers - Positive Reinforcement Education!
DESCRIPTION:We all like treats: Home made Kongs (Pick up and/or deliver to current fosters)
URL:https://www.cvrrescue.org/event/cvrr-junior-rescuers-positive-reinforcement-education/
LOCATION:Timbrook Library\, 18891 Leesville Road\, Timberlake\, VA\, United States
END:VEVENT
BEGIN:VEVENT
DTSTART;TZID=America/New_York:20160515T183000
DTEND;TZID=America/New_York:20160515T193000
DTSTAMP:20260425T103410
CREATED:20160425T184215Z
LAST-MODIFIED:20160425T184215Z
UID:383-1463337000-1463340600@www.cvrrescue.org
SUMMARY:Monthly Volunteer Meeting
DESCRIPTION:Monthly meeting for the volunteers of Central Virginia Regional Rescue. Occurring the 15th of every month at 6:30 p.m. EST; location TBD.
URL:https://www.cvrrescue.org/event/monthly-volunteer-meeting-3/
LOCATION:TBD
END:VEVENT
BEGIN:VEVENT
DTSTART;TZID=UTC:20160507T080000
DTEND;TZID=UTC:20160507T130000
DTSTAMP:20260425T103410
CREATED:20160425T184658Z
LAST-MODIFIED:20160425T184658Z
UID:384-1462608000-1462626000@www.cvrrescue.org
SUMMARY:CVRR Yardsale with Lemonade & Baked Goodness Stand
DESCRIPTION:Come out and join us for our first CVRR yardsale! Come on out to 21771 Timberlake Road next to Arby’s from 8 a.m. to 1 p.m! Our Junior rescuers will be there with homemade lemonade and bakes goodies to help raise money for our animals too!
URL:https://www.cvrrescue.org/event/cvrr-yardsale-with-lemonade-baked-goodness-stand/
LOCATION:Yardsale Location\, 21771 Timberlake Road\, Lynchburg\, 24502\, United States
END:VEVENT
BEGIN:VEVENT
DTSTART;TZID=America/New_York:20160501T160000
DTEND;TZID=America/New_York:20160501T170000
DTSTAMP:20260425T103410
CREATED:20160425T184045Z
LAST-MODIFIED:20160425T184045Z
UID:382-1462118400-1462122000@www.cvrrescue.org
SUMMARY:Monthly Board Meeting
DESCRIPTION:Monthly board meetings occur on the First Sunday of Every Month at 4 p.m. EST. The first half hour of our board meetings are open to the public.
URL:https://www.cvrrescue.org/event/monthly-board-meeting-2/
LOCATION:Timbrook Library\, 18891 Leesville Road\, Timberlake\, VA\, United States
END:VEVENT
BEGIN:VEVENT
DTSTART;TZID=America/New_York:20160501T140000
DTEND;TZID=America/New_York:20160501T160000
DTSTAMP:20260425T103410
CREATED:20160425T183756Z
LAST-MODIFIED:20160425T183756Z
UID:380-1462111200-1462118400@www.cvrrescue.org
SUMMARY:CVRR Junior Rescuers - Yard Sale Prep!
DESCRIPTION:Creating Super-Duper-Awesome-You-Cant-Miss-This Signs!
URL:https://www.cvrrescue.org/event/cvrr-junior-rescuers-yard-sale-prep/
LOCATION:Timbrook Library\, 18891 Leesville Road\, Timberlake\, VA\, United States
END:VEVENT
BEGIN:VEVENT
DTSTART;TZID=America/New_York:20160415T183000
DTEND;TZID=America/New_York:20160415T193000
DTSTAMP:20260425T103410
CREATED:20160225T215600Z
LAST-MODIFIED:20160225T215600Z
UID:233-1460745000-1460748600@www.cvrrescue.org
SUMMARY:Monthly Volunteer Meeting
DESCRIPTION:Monthly meeting for the volunteers of Central Virginia Regional Rescue. Occurring the 15th of every month at 6:30 p.m. EST; location TBD.
URL:https://www.cvrrescue.org/event/monthly-volunteer-meeting-2/
LOCATION:TBD
END:VEVENT
BEGIN:VEVENT
DTSTART;TZID=America/New_York:20160409T090000
DTEND;TZID=America/New_York:20160409T120000
DTSTAMP:20260425T103410
CREATED:20160225T220308Z
LAST-MODIFIED:20160225T220308Z
UID:235-1460192400-1460203200@www.cvrrescue.org
SUMMARY:BE BOLD 4 Miler {at Bold Rock Cidery}
DESCRIPTION:Join us at the BE BOLD 4 Miler at Bold Rock Cidery on April 9\, 2016.
URL:https://www.cvrrescue.org/event/be-bold-4-miler-at-bold-rock-cidery/
LOCATION:Bold Rock Cidery\, 1020 Rockfish Valley Highway (Route 151) \, Nellysford\, VA\, 22958\, United States
END:VEVENT
BEGIN:VEVENT
DTSTART;TZID=America/New_York:20160403T160000
DTEND;TZID=America/New_York:20160403T170000
DTSTAMP:20260425T103410
CREATED:20160225T215846Z
LAST-MODIFIED:20160225T215846Z
UID:234-1459699200-1459702800@www.cvrrescue.org
SUMMARY:Monthly Board Meeting
DESCRIPTION:Monthly board meetings occur on the First Sunday of Every Month at 4 p.m. EST. The first half hour of our board meetings are open to the public.
URL:https://www.cvrrescue.org/event/monthly-board-meeting/
LOCATION:TBD
END:VEVENT
BEGIN:VEVENT
DTSTART;TZID=America/New_York:20160315T183000
DTEND;TZID=America/New_York:20160315T193000
DTSTAMP:20260425T103410
CREATED:20160225T214613Z
LAST-MODIFIED:20160225T215550Z
UID:229-1458066600-1458070200@www.cvrrescue.org
SUMMARY:Monthly Volunteer Meeting
DESCRIPTION:Monthly meeting for the volunteers of Central Virginia Regional Rescue. Occurring the 15th of every month at 6:30 p.m. EST; location TBD.
URL:https://www.cvrrescue.org/event/monthly-volunteer-meeting/
LOCATION:TBD
END:VEVENT
BEGIN:VEVENT
DTSTART;TZID=America/New_York:20160306T160000
DTEND;TZID=America/New_York:20160306T170000
DTSTAMP:20260425T103410
CREATED:20160225T213344Z
LAST-MODIFIED:20160225T214303Z
UID:226-1457280000-1457283600@www.cvrrescue.org
SUMMARY:Monthly Board Meeting
DESCRIPTION:Monthly board meetings occur on the First Sunday of Every Month at 4 p.m. EST. The first half hour of our board meetings are open to the public.
URL:https://www.cvrrescue.org/event/monthly-board-meetings/
LOCATION:TBD
END:VEVENT
END:VCALENDAR